Workbook

Sheet Consignes
A1: Fichier d'exercice — Tableau croisé dynamique (CNFN)
A2: Données : 120 lignes de ventes fictives (janvier à septembre 2026) dans l'onglet « Ventes ».
A4: Étape 0 — Cliquez dans les données de l'onglet Ventes puis Insertion › Tableau (Ctrl+L) pour les convertir en tableau.
A5: Exercice 1 — Chiffre d'affaires HT par région : Région en Lignes, Montant HT en Valeurs.
A6: Exercice 2 — Croiser région et catégorie : ajoutez Catégorie en Colonnes.
A7: Exercice 3 — Part de chaque région : Paramètres des champs de valeurs › Afficher les valeurs › % du total général.
A8: Exercice 4 — Évolution mensuelle : Date en Lignes, groupée par Mois et Trimestres.
A9: Exercice 5 — Nombre de commandes par commercial : N° commande en Valeurs (synthèse Nombre).
A10: Exercice 6 — Ajoutez un segment Catégorie et un graphique croisé dynamique.
A12: Vérification : l'onglet « Corrigé » calcule les résultats attendus avec SOMME.SI.ENS et NB.SI.ENS.
A13: Formation Excel CPF : https://cnfn.fr/formation-excel-cpf/

Sheet Ventes
A1: Date | B1: N° commande | C1: Client | D1: Région | E1: Commercial | F1: Catégorie | G1: Quantité | H1: Prix unitaire HT | I1: Montant HT
A2: 46028 | B2: CMD-1101 | C2: Atelier Morel | D2: Ouest | E2: Julie Martin | F2: Mobilier | G2: 3 | H2: 249.06 | I2: =G2*H2
A3: 46030 | B3: CMD-1102 | C3: Bureau Delta | D3: Île-de-France | E3: Karim Benali | F3: Consommables | G3: 24 | H3: 18.9 | I3: =G3*H3
A4: 46036 | B4: CMD-1103 | C4: Garnier & Fils | D4: Ouest | E4: Julie Martin | F4: Consommables | G4: 32 | H4: 9.88 | I4: =G4*H4
A5: 46040 | B5: CMD-1104 | C5: Imprimerie Roche | D5: Est | E5: Thomas Leroy | F5: Consommables | G5: 50 | H5: 17.31 | I5: =G5*H5
A6: 46040 | B6: CMD-1105 | C6: Imprimerie Roche | D6: Est | E6: Thomas Leroy | F6: Papeterie | G6: 9 | H6: 6.47 | I6: =G6*H6
A7: 46040 | B7: CMD-1106 | C7: Garnier & Fils | D7: Ouest | E7: Julie Martin | F7: Consommables | G7: 11 | H7: 41.69 | I7: =G7*H7
A8: 46042 | B8: CMD-1107 | C8: Atelier Morel | D8: Ouest | E8: Julie Martin | F8: Papeterie | G8: 43 | H8: 13.88 | I8: =G8*H8
A9: 46043 | B9: CMD-1108 | C9: Lumen SAS | D9: Île-de-France | E9: Karim Benali | F9: Papeterie | G9: 39 | H9: 7.91 | I9: =G9*H9
A10: 46044 | B10: CMD-1109 | C10: Café Bastide | D10: Sud | E10: Sophie Durand | F10: Informatique | G10: 6 | H10: 316.12 | I10: =G10*H10
A11: 46046 | B11: CMD-1110 | C11: Atelier Morel | D11: Ouest | E11: Julie Martin | F11: Papeterie | G11: 33 | H11: 5.37 | I11: =G11*H11
A12: 46048 | B12: CMD-1111 | C12: Café Bastide | D12: Sud | E12: Sophie Durand | F12: Informatique | G12: 5 | H12: 366.18 | I12: =G12*H12
A13: 46049 | B13: CMD-1112 | C13: Studio Clément | D13: Île-de-France | E13: Karim Benali | F13: Mobilier | G13: 6 | H13: 308.36 | I13: =G13*H13
... A121: 46294 | B121: CMD-1220 | C121: Lumen SAS | D121: Île-de-France | E121: Karim Benali | F121: Papeterie | G121: 45 | H121: 15.01 | I121: =G121*H121

Sheet Corrigé
A1: Résultats attendus (à comparer à votre tableau croisé dynamique)
A3: Région | B3: Papeterie | C3: Mobilier | D3: Informatique | E3: Consommables | F3: Total | G3: % du total
A4: Est | B4: =SUMIFS(Ventes!$I$2:$I$121,Ventes!$D$2:$D$121,$A4,Ventes!$F$2:$F$121,B$3) | C4: =SUMIFS(Ventes!$I$2:$I$121,Ventes!$D$2:$D$121,$A4,Ventes!$F$2:$F$121,C$3) | D4: =SUMIFS(Ventes!$I$2:$I$121,Ventes!$D$2:$D$121,$A4,Ventes!$F$2:$F$121,D$3) | E4: =SUMIFS(Ventes!$I$2:$I$121,Ventes!$D$2:$D$121,$A4,Ventes!$F$2:$F$121,E$3) | F4: =SUM(B4:E4) | G4: =F4/$F$8
A5: Île-de-France | B5: =SUMIFS(Ventes!$I$2:$I$121,Ventes!$D$2:$D$121,$A5,Ventes!$F$2:$F$121,B$3) | C5: =SUMIFS(Ventes!$I$2:$I$121,Ventes!$D$2:$D$121,$A5,Ventes!$F$2:$F$121,C$3) | D5: =SUMIFS(Ventes!$I$2:$I$121,Ventes!$D$2:$D$121,$A5,Ventes!$F$2:$F$121,D$3) | E5: =SUMIFS(Ventes!$I$2:$I$121,Ventes!$D$2:$D$121,$A5,Ventes!$F$2:$F$121,E$3) | F5: =SUM(B5:E5) | G5: =F5/$F$8
A6: Ouest | B6: =SUMIFS(Ventes!$I$2:$I$121,Ventes!$D$2:$D$121,$A6,Ventes!$F$2:$F$121,B$3) | C6: =SUMIFS(Ventes!$I$2:$I$121,Ventes!$D$2:$D$121,$A6,Ventes!$F$2:$F$121,C$3) | D6: =SUMIFS(Ventes!$I$2:$I$121,Ventes!$D$2:$D$121,$A6,Ventes!$F$2:$F$121,D$3) | E6: =SUMIFS(Ventes!$I$2:$I$121,Ventes!$D$2:$D$121,$A6,Ventes!$F$2:$F$121,E$3) | F6: =SUM(B6:E6) | G6: =F6/$F$8
A7: Sud | B7: =SUMIFS(Ventes!$I$2:$I$121,Ventes!$D$2:$D$121,$A7,Ventes!$F$2:$F$121,B$3) | C7: =SUMIFS(Ventes!$I$2:$I$121,Ventes!$D$2:$D$121,$A7,Ventes!$F$2:$F$121,C$3) | D7: =SUMIFS(Ventes!$I$2:$I$121,Ventes!$D$2:$D$121,$A7,Ventes!$F$2:$F$121,D$3) | E7: =SUMIFS(Ventes!$I$2:$I$121,Ventes!$D$2:$D$121,$A7,Ventes!$F$2:$F$121,E$3) | F7: =SUM(B7:E7) | G7: =F7/$F$8
A8: Total général | B8: =SUM(B4:B7) | C8: =SUM(C4:C7) | D8: =SUM(D4:D7) | E8: =SUM(E4:E7) | F8: =SUM(F4:F7) | G8: =F8/$F$8
A10: Commercial | B10: Nombre de commandes
A11: Julie Martin | B11: =COUNTIFS(Ventes!$E$2:$E$121,A11)
A12: Karim Benali | B12: =COUNTIFS(Ventes!$E$2:$E$121,A12)
A13: Sophie Durand | B13: =COUNTIFS(Ventes!$E$2:$E$121,A13)
A14: Thomas Leroy | B14: =COUNTIFS(Ventes!$E$2:$E$121,A14)
