Workbook

Sheet Tableau de bord
B2: Tableau de bord commercial · 2026
B3: Données fictives. Choisissez un mois en C4 : tous les indicateurs se mettent à jour.
B4: Mois analysé | C4: Octobre 2026
B5: (date technique) | C5: =INDEX(Calculs!$A$2:$A$11,MATCH(C4,Calculs!$B$2:$B$11,0)) | E5: =MATCH(C4,Calculs!$B$2:$B$11,0)
B7: CA HT du mois | E7: Atteinte de l'objectif | H7: Taux de marge | K7: Commandes
B8: =INDEX(Calculs!$C$2:$C$11,$E$5) | E8: =INDEX(Calculs!$C$2:$C$11,$E$5)/INDEX(Calculs!$D$2:$D$11,$E$5) | H8: =INDEX(Calculs!$G$2:$G$11,$E$5) | K8: =INDEX(Calculs!$H$2:$H$11,$E$5)
B9: =IF($E$5=1,"",IF(INDEX(Calculs!$C$2:$C$11,$E$5)>=INDEX(Calculs!$C$2:$C$11,$E$5-1),"▲ ","▼ ")&FIXED(ABS(INDEX(Calculs!$C$2:$C$11,$E$5)/INDEX(Calculs!$C$2:$C$11,$E$5-1)-1)*100,1)&" % vs mois précédent") | E9: ="Objectif : "&FIXED(INDEX(Calculs!$D$2:$D$11,$E$5),0)&" €" | H9: ="Marge : "&FIXED(INDEX(Calculs!$F$2:$F$11,$E$5),0)&" €" | K9: ="Panier moyen : "&FIXED(INDEX(Calculs!$I$2:$I$11,$E$5),0)&" €"
B11: Délai moyen de livraison du mois (jours) | E11: =INDEX(Calculs!$J$2:$J$11,$E$5) | H11: CA cumulé depuis janvier | K11: =SUMIFS(Calculs!$C$2:$C$11,Calculs!$A$2:$A$11,"<="&$C$5)

Sheet Données
A1: Date | B1: Mois | C1: Région | D1: Commercial | E1: Catégorie | F1: CA HT | G1: Coût | H1: Marge | I1: Délai (jours)
A2: 46028 | B2: 46023 | C2: Île-de-France | D2: Hugo Fabre | E2: Licences | F2: 2250 | G2: 1811 | H2: =F2-G2 | I2: 3
A3: 46032 | B3: 46023 | C3: Hauts-de-France | D3: Inès Moreau | E3: Formation | F3: 4660 | G3: 2150 | H3: =F3-G3 | I3: 14
A4: 46035 | B4: 46023 | C4: Nouvelle-Aquitaine | D4: Paul Girard | E4: Formation | F4: 3430 | G4: 1700 | H4: =F4-G4 | I4: 5
A5: 46037 | B5: 46023 | C5: Auvergne-Rhône-Alpes | D5: Nadia Roux | E5: Formation | F5: 2080 | G5: 828 | H5: =F5-G5 | I5: 14
A6: 46038 | B6: 46023 | C6: Auvergne-Rhône-Alpes | D6: Nadia Roux | E6: Conseil | F6: 5330 | G6: 3132 | H6: =F6-G6 | I6: 15
A7: 46041 | B7: 46023 | C7: Île-de-France | D7: Hugo Fabre | E7: Formation | F7: 3710 | G7: 1710 | H7: =F7-G7 | I7: 11
A8: 46041 | B8: 46023 | C8: Auvergne-Rhône-Alpes | D8: Nadia Roux | E8: Formation | F8: 4140 | G8: 2049 | H8: =F8-G8 | I8: 14
A9: 46042 | B9: 46023 | C9: Île-de-France | D9: Claire Petit | E9: Formation | F9: 2530 | G9: 1277 | H9: =F9-G9 | I9: 13
A10: 46042 | B10: 46023 | C10: Hauts-de-France | D10: Inès Moreau | E10: Formation | F10: 2900 | G10: 1389 | H10: =F10-G10 | I10: 8
A11: 46043 | B11: 46023 | C11: Auvergne-Rhône-Alpes | D11: Nadia Roux | E11: Formation | F11: 2090 | G11: 990 | H11: =F11-G11 | I11: 2
A12: 46047 | B12: 46023 | C12: Nouvelle-Aquitaine | D12: Paul Girard | E12: Licences | F12: 1150 | G12: 826 | H12: =F12-G12 | I12: 14
A13: 46049 | B13: 46023 | C13: Île-de-France | D13: Hugo Fabre | E13: Formation | F13: 3330 | G13: 1340 | H13: =F13-G13 | I13: 8
... A151: 46319 | B151: 46296 | C151: Nouvelle-Aquitaine | D151: Paul Girard | E151: Formation | F151: 1990 | G151: 847 | H151: =F151-G151 | I151: 4

Sheet Calculs
A1: Mois | B1: Libellé | C1: CA HT | D1: Objectif | E1: Écart / objectif | F1: Marge | G1: Taux de marge | H1: Commandes | I1: Panier moyen | J1: Délai moyen | L1: Région | M1: CA du mois choisi | N1: CA cumulé
A2: 46023 | B2: Janvier 2026 | C2: =SUMIFS(Données!$F$2:$F$151,Données!$B$2:$B$151,A2) | D2: 42000 | E2: =C2/D2-1 | F2: =SUMIFS(Données!$H$2:$H$151,Données!$B$2:$B$151,A2) | G2: =IFERROR(F2/C2,0) | H2: =COUNTIFS(Données!$B$2:$B$151,A2) | I2: =IFERROR(C2/H2,0) | J2: =IFERROR(AVERAGEIFS(Données!$I$2:$I$151,Données!$B$2:$B$151,A2),0) | L2: Île-de-France | M2: =SUMIFS(Données!$F$2:$F$151,Données!$C$2:$C$151,L2,Données!$B$2:$B$151,'Tableau de bord'!$C$5) | N2: =SUMIFS(Données!$F$2:$F$151,Données!$C$2:$C$151,L2,Données!$B$2:$B$151,"<="&'Tableau de bord'!$C$5)
A3: 46054 | B3: Février 2026 | C3: =SUMIFS(Données!$F$2:$F$151,Données!$B$2:$B$151,A3) | D3: 47000 | E3: =C3/D3-1 | F3: =SUMIFS(Données!$H$2:$H$151,Données!$B$2:$B$151,A3) | G3: =IFERROR(F3/C3,0) | H3: =COUNTIFS(Données!$B$2:$B$151,A3) | I3: =IFERROR(C3/H3,0) | J3: =IFERROR(AVERAGEIFS(Données!$I$2:$I$151,Données!$B$2:$B$151,A3),0) | L3: Auvergne-Rhône-Alpes | M3: =SUMIFS(Données!$F$2:$F$151,Données!$C$2:$C$151,L3,Données!$B$2:$B$151,'Tableau de bord'!$C$5) | N3: =SUMIFS(Données!$F$2:$F$151,Données!$C$2:$C$151,L3,Données!$B$2:$B$151,"<="&'Tableau de bord'!$C$5)
A4: 46082 | B4: Mars 2026 | C4: =SUMIFS(Données!$F$2:$F$151,Données!$B$2:$B$151,A4) | D4: 52000 | E4: =C4/D4-1 | F4: =SUMIFS(Données!$H$2:$H$151,Données!$B$2:$B$151,A4) | G4: =IFERROR(F4/C4,0) | H4: =COUNTIFS(Données!$B$2:$B$151,A4) | I4: =IFERROR(C4/H4,0) | J4: =IFERROR(AVERAGEIFS(Données!$I$2:$I$151,Données!$B$2:$B$151,A4),0) | L4: Nouvelle-Aquitaine | M4: =SUMIFS(Données!$F$2:$F$151,Données!$C$2:$C$151,L4,Données!$B$2:$B$151,'Tableau de bord'!$C$5) | N4: =SUMIFS(Données!$F$2:$F$151,Données!$C$2:$C$151,L4,Données!$B$2:$B$151,"<="&'Tableau de bord'!$C$5)
A5: 46113 | B5: Avril 2026 | C5: =SUMIFS(Données!$F$2:$F$151,Données!$B$2:$B$151,A5) | D5: 50000 | E5: =C5/D5-1 | F5: =SUMIFS(Données!$H$2:$H$151,Données!$B$2:$B$151,A5) | G5: =IFERROR(F5/C5,0) | H5: =COUNTIFS(Données!$B$2:$B$151,A5) | I5: =IFERROR(C5/H5,0) | J5: =IFERROR(AVERAGEIFS(Données!$I$2:$I$151,Données!$B$2:$B$151,A5),0) | L5: Hauts-de-France | M5: =SUMIFS(Données!$F$2:$F$151,Données!$C$2:$C$151,L5,Données!$B$2:$B$151,'Tableau de bord'!$C$5) | N5: =SUMIFS(Données!$F$2:$F$151,Données!$C$2:$C$151,L5,Données!$B$2:$B$151,"<="&'Tableau de bord'!$C$5)
A6: 46143 | B6: Mai 2026 | C6: =SUMIFS(Données!$F$2:$F$151,Données!$B$2:$B$151,A6) | D6: 55000 | E6: =C6/D6-1 | F6: =SUMIFS(Données!$H$2:$H$151,Données!$B$2:$B$151,A6) | G6: =IFERROR(F6/C6,0) | H6: =COUNTIFS(Données!$B$2:$B$151,A6) | I6: =IFERROR(C6/H6,0) | J6: =IFERROR(AVERAGEIFS(Données!$I$2:$I$151,Données!$B$2:$B$151,A6),0)
A7: 46174 | B7: Juin 2026 | C7: =SUMIFS(Données!$F$2:$F$151,Données!$B$2:$B$151,A7) | D7: 56000 | E7: =C7/D7-1 | F7: =SUMIFS(Données!$H$2:$H$151,Données!$B$2:$B$151,A7) | G7: =IFERROR(F7/C7,0) | H7: =COUNTIFS(Données!$B$2:$B$151,A7) | I7: =IFERROR(C7/H7,0) | J7: =IFERROR(AVERAGEIFS(Données!$I$2:$I$151,Données!$B$2:$B$151,A7),0)
A8: 46204 | B8: Juillet 2026 | C8: =SUMIFS(Données!$F$2:$F$151,Données!$B$2:$B$151,A8) | D8: 45000 | E8: =C8/D8-1 | F8: =SUMIFS(Données!$H$2:$H$151,Données!$B$2:$B$151,A8) | G8: =IFERROR(F8/C8,0) | H8: =COUNTIFS(Données!$B$2:$B$151,A8) | I8: =IFERROR(C8/H8,0) | J8: =IFERROR(AVERAGEIFS(Données!$I$2:$I$151,Données!$B$2:$B$151,A8),0)
A9: 46235 | B9: Août 2026 | C9: =SUMIFS(Données!$F$2:$F$151,Données!$B$2:$B$151,A9) | D9: 35000 | E9: =C9/D9-1 | F9: =SUMIFS(Données!$H$2:$H$151,Données!$B$2:$B$151,A9) | G9: =IFERROR(F9/C9,0) | H9: =COUNTIFS(Données!$B$2:$B$151,A9) | I9: =IFERROR(C9/H9,0) | J9: =IFERROR(AVERAGEIFS(Données!$I$2:$I$151,Données!$B$2:$B$151,A9),0)
A10: 46266 | B10: Septembre 2026 | C10: =SUMIFS(Données!$F$2:$F$151,Données!$B$2:$B$151,A10) | D10: 58000 | E10: =C10/D10-1 | F10: =SUMIFS(Données!$H$2:$H$151,Données!$B$2:$B$151,A10) | G10: =IFERROR(F10/C10,0) | H10: =COUNTIFS(Données!$B$2:$B$151,A10) | I10: =IFERROR(C10/H10,0) | J10: =IFERROR(AVERAGEIFS(Données!$I$2:$I$151,Données!$B$2:$B$151,A10),0)
A11: 46296 | B11: Octobre 2026 | C11: =SUMIFS(Données!$F$2:$F$151,Données!$B$2:$B$151,A11) | D11: 52000 | E11: =C11/D11-1 | F11: =SUMIFS(Données!$H$2:$H$151,Données!$B$2:$B$151,A11) | G11: =IFERROR(F11/C11,0) | H11: =COUNTIFS(Données!$B$2:$B$151,A11) | I11: =IFERROR(C11/H11,0) | J11: =IFERROR(AVERAGEIFS(Données!$I$2:$I$151,Données!$B$2:$B$151,A11),0)
